BEGIN:VCALENDAR
VERSION:2.0
PRODID:-//wp-events-plugin.com//7.2.3.1//EN
TZID:Europe/Berlin
X-WR-TIMEZONE:Europe/Berlin
BEGIN:VEVENT
UID:112@kommune-niederkaufungen.de
DTSTART;TZID=Europe/Berlin:20251204T180000
DTEND;TZID=Europe/Berlin:20251207T140000
DTSTAMP:20250226T191557Z
URL:https://www.kommune-niederkaufungen.de/events/interkommuneseminar-5/
SUMMARY:Interkommuneseminar
DESCRIPTION:04. bis 07. Dezember 2025\, Lebensbogen\n\nAnmeldung: Micha Hol
 zmeier\, iks-anmeldung@lebensbogen.de (Anmeldeschluss 23. November 2025)\n
 \nWir bieten das Seminar mit&nbsp\; Preisstaffelung an. Geringverdienende 
 zahlen einen niedrigeren&nbsp\; Preis und von Menschen mit einem höheren 
 Gehalt erwarten wir einen höheren Beitrag – Solidaritätsprinzip!\n\nbi
 s 800\,- € Einkommen:&nbsp\;&nbsp\;&nbsp\;&nbsp\;&nbsp\; 120\,- € TN-B
 eitrag\n\nbis 1.300\,- € Einkommen:&nbsp\;&nbsp\;&nbsp\; 165\,- € TN-B
 eitrag\n\nüber 1.300\,- € Einkommen:&nbsp\;&nbsp\; 210\,- € TN-Beitra
 g\n\nWer aus finanziellen Gründen auf die Teilnahme verzichten müsste\, 
 kann sich mit uns in Verbindung setzen und einen ermäßigten Preis aushan
 deln.\nInterkommuneseminar\nIn der Region Kassel gibt es inzwischen fünf 
 politische Kommunen: die „Kommune Niederkaufungen“ (1986)\, die „Vil
 la Locomuna“ in Kassel (2000)\, die „gASTWERKe“ in Escherode (2007)\
 , die „Kommune Lossehof“ in Oberkaufungen (2011) und den „Lebensboge
 n“ in Zierenberg (2015). Alle Gruppen wirtschaften gemeinsam und treffen
  ihre Entscheidungen im Konsens.\n\nIm Laufe der Jahre haben sich die Komm
 unen in der Region Kassel immer mehr vernetzt und gemeinsame Projekte auf 
 den Weg gebracht wie die „Solidarische Landwirtschaft“ (SoLawi) und de
 n MiLa O. (Mitgliederladen Oberkaufungen).\n\nSeit 2011 haben sich Arbeits
 bereiche mit KollektivistInnen aus unterschiedlichen Kommunen entwickelt. 
 Die beiden Gemüse-kollektive aus Niederkaufungen (Rote Rübe) und aus Esc
 herode (Wurzelwerk) erarbeiteten gemeinsam das Konzept der „Solidarische
  Landwirtschaft“ und wuchsen immer mehr zusammen. Die SoLawi hat 2021 ü
 ber 200 Mitglieder im Raum Kassel.\n\nIn den Kollektiven\, wie z.B. der Ki
 ta „Die Wühlmäuse“\, der „Roten Rübe“ und die „Tagespflege Lo
 ssetal“\, arbeiten KollektivistInnen aus den anderen Kommunen mit. Um da
 s Netzwerk der Kommunen in der Region Kassel kennenzulernen\, entstand das
  gemeinsame „Interkommune-Seminar“.\n\nDas Seminar findet in der Regel
  an verschiedenen Orten statt und stellt das Kommune-Leben am Beispiel meh
 rerer Gruppen vor.\n\nSo können die Gemeinsamkeiten der Gruppen\, ihre un
 terschiedlichen Schwerpunkte und individuellen Wege betrachtet werden. In 
 dem Seminar werden die Themen Gemeinsame Ökonomie\, Konsens\, Ökologie\,
  Kommunikation\, Arbeit bzw. Tätigsein sowie unser linkes Politikverstän
 dnis behandelt.\n\nAngesprochen sind an Kommunen interessierte Menschen un
 d solche\, die sich schon konkret überlegen\, in eine der Gemeinschaften 
 einzusteigen oder eventuell eine weitere Gruppe in der Region zu gründen.
 \n\nDie Inhalte werden von Menschen aus den verschiedenen Kommunen vorgest
 ellt\, wodurch Gemeinsamkeiten und Unterschiede erkennbar werden und die B
 andbreite unserer Praxis sichtbar wird. Besuche bei mehreren Kommunen biet
 en Gelegenheit\, die Besonderheiten und Perspektiven der einzelnen Gruppen
  mitzubekommen. Die Mitglieder des Interkomm sind auch Teil des Netzwerkes
  der politischen Kommunen „KommuJa“. Infos über das KommuJa-Netzwerk 
 gibt es im Netz unter: www.Kommuja.de
CATEGORIES:Interkommseminare
LOCATION:gASTWERKe\, Forstamtsstrasse 6\, Escherode\, Niedersachsen\, 34355
 \, Deutschland
GEO:51.327170;9.673380
X-APPLE-STRUCTURED-LOCATION;VALUE=URI;X-ADDRESS=Forstamtsstrasse 6\, Escher
 ode\, Niedersachsen\, 34355\, Deutschland;X-APPLE-RADIUS=100;X-TITLE=gASTW
 ERKe:geo:51.327170,9.673380
END:VEVENT
BEGIN:VTIMEZONE
TZID:Europe/Berlin
X-LIC-LOCATION:Europe/Berlin
BEGIN:STANDARD
DTSTART:20251026T020000
TZOFFSETFROM:+0200
TZOFFSETTO:+0100
TZNAME:CET
END:STANDARD
END:VTIMEZONE
END:VCALENDAR