BEGIN:VCALENDAR
VERSION:2.0
PRODID:-//wp-events-plugin.com//7.2.3.1//EN
TZID:Europe/Berlin
X-WR-TIMEZONE:Europe/Berlin
BEGIN:VEVENT
UID:110@kommune-niederkaufungen.de
DTSTART;TZID=Europe/Berlin:20250907T000000
DTEND;TZID=Europe/Berlin:20250913T000000
DTSTAMP:20250616T143049Z
URL:https://www.kommune-niederkaufungen.de/events/komm-doch-camp-2025/
SUMMARY:Komm Doch! Camp 2025
DESCRIPTION:Auch in diesem Jahr findet eine Woche für junge Interessierte 
 an unserer Kommune statt.\n\n\n\n&nbsp\;\n\nSeit 38 Jahren existiert nun d
 ie Kommune. Derzeit leben hier ca. 60 Erwachsene und ca. 20 Kinder und Jug
 endliche. Inzwischen gibt es eine ganze Reihe von Kommunard*innen\, die be
 reits im wohlverdienten Rentenalter sind oder dieses bald erreichen.\n\nUn
 ser Wunsch ist\, dass ca. 10-20 junge Menschen (zwischen 20 und 40 Jahren)
  in die Kommune aufgenommen werden\, die auch Verantwortung für die zukü
 nftige Entwicklung der Kommune übernehmen wollen.\n\nDaher laden wir dich
  herzlich vom 07.September bis 13. September 2025 zu unserem "Komm doch! C
 amp" ein. Zusammen mit circa 20 weiteren jungen Interessierten kannst du i
 n diesen Tagen einen tiefen Einblick in die Kommune Niederkaufungen bekomm
 en\, Fragen stellen\, Ideen spinnen und einfach eine gute Zeit erleben. Vi
 elleicht kommt ja sogar eine ganze Gruppe mit gemeinsamem Einstiegsinteres
 se zustande?\nAnmeldung\nBegrenzte Anzahl der Teilnehmenden. Meldet euch f
 rühzeitig an :)\n\n[formidable id="5"]
CATEGORIES:Allgemeines
END:VEVENT
BEGIN:VTIMEZONE
TZID:Europe/Berlin
X-LIC-LOCATION:Europe/Berlin
BEGIN:DAYLIGHT
DTSTART:20250330T030000
TZOFFSETFROM:+0100
TZOFFSETTO:+0200
TZNAME:CEST
END:DAYLIGHT
END:VTIMEZONE
END:VCALENDAR